BEGIN:VCALENDAR
VERSION:2.0
PRODID:-//https://mail.daiquirideckvenice.com///NONSGML kigkonsult.se iCalcreator 2.10.15//
METHOD:PUBLISH
BEGIN:VEVENT
UID:20260422T220431UTC-2627ZIsltS@https://mail.daiquirideckvenice.com/
DTSTAMP:20260422T220431Z
DESCRIPTION: https://mail.daiquirideckvenice.com/component/rseventspro/even
 t/4163-5p-nathaniel-lee-white?Itemid=101
DTSTART;VALUE=DATE:20260531
LOCATION:Daiquiri Deck Island of Venice (300 W Venice Ave\, Venice\, FL 342
 85)
SUMMARY:5p Nathaniel Lee White
URL:https://mail.daiquirideckvenice.com/component/rseventspro/event/4163-5p
 -nathaniel-lee-white?Itemid=101
END:VEVENT
END:VCALENDAR
