BEGIN:VCALENDAR
VERSION:2.0
PRODID:-//https://mail.daiquirideckvenice.com///NONSGML kigkonsult.se iCalcreator 2.10.15//
METHOD:PUBLISH
BEGIN:VEVENT
UID:20260422T183754UTC-13051c56ah@https://mail.daiquirideckvenice.com/
DTSTAMP:20260422T183754Z
DESCRIPTION: https://mail.daiquirideckvenice.com/component/rseventspro/even
 t/4161-4p-ryan-judy?Itemid=101
DTSTART;VALUE=DATE:20260529
LOCATION:Daiquiri Deck Island of Venice (300 W Venice Ave\, Venice\, FL 342
 85)
SUMMARY:4p Ryan Judy
URL:https://mail.daiquirideckvenice.com/component/rseventspro/event/4161-4p
 -ryan-judy?Itemid=101
END:VEVENT
END:VCALENDAR
