BEGIN:VCALENDAR
VERSION:2.0
PRODID:-//https://mail.daiquirideckvenice.com///NONSGML kigkonsult.se iCalcreator 2.10.15//
METHOD:PUBLISH
BEGIN:VEVENT
UID:20260422T130224UTC-65795dwbSa@https://mail.daiquirideckvenice.com/
DTSTAMP:20260422T130224Z
DESCRIPTION: https://mail.daiquirideckvenice.com/component/rseventspro/even
 t/4158-12p-lonnie-paul?Itemid=101
DTSTART;VALUE=DATE:20260526
LOCATION:Daiquiri Deck Island of Venice (300 W Venice Ave\, Venice\, FL 342
 85)
SUMMARY:12p Lonnie Paul
URL:https://mail.daiquirideckvenice.com/component/rseventspro/event/4158-12
 p-lonnie-paul?Itemid=101
END:VEVENT
END:VCALENDAR
