BEGIN:VCALENDAR
VERSION:2.0
PRODID:-//https://mail.daiquirideckvenice.com///NONSGML kigkonsult.se iCalcreator 2.10.15//
METHOD:PUBLISH
BEGIN:VEVENT
UID:20260422T073832UTC-8229EaZVuh@https://mail.daiquirideckvenice.com/
DTSTAMP:20260422T073832Z
DESCRIPTION: https://mail.daiquirideckvenice.com/component/rseventspro/even
 t/4155-5p-kevin-thompson?Itemid=101
DTSTART;VALUE=DATE:20260523
LOCATION:Daiquiri Deck Island of Venice (300 W Venice Ave\, Venice\, FL 342
 85)
SUMMARY:5p Kevin Thompson
URL:https://mail.daiquirideckvenice.com/component/rseventspro/event/4155-5p
 -kevin-thompson?Itemid=101
END:VEVENT
END:VCALENDAR
