BEGIN:VCALENDAR
VERSION:2.0
PRODID:-//https://mail.daiquirideckvenice.com///NONSGML kigkonsult.se iCalcreator 2.10.15//
METHOD:PUBLISH
BEGIN:VEVENT
UID:20260422T021159UTC-77881u4KAN@https://mail.daiquirideckvenice.com/
DTSTAMP:20260422T021159Z
DESCRIPTION: https://mail.daiquirideckvenice.com/component/rseventspro/even
 t/4152-4p-gulf-coastin-life?Itemid=101
DTSTART;VALUE=DATE:20260520
LOCATION:Daiquiri Deck Island of Venice (300 W Venice Ave\, Venice\, FL 342
 85)
SUMMARY:4p Gulf Coastin.Life
URL:https://mail.daiquirideckvenice.com/component/rseventspro/event/4152-4p
 -gulf-coastin-life?Itemid=101
END:VEVENT
END:VCALENDAR
