BEGIN:VCALENDAR
VERSION:2.0
PRODID:-//https://mail.daiquirideckvenice.com///NONSGML kigkonsult.se iCalcreator 2.10.15//
METHOD:PUBLISH
BEGIN:VEVENT
UID:20260421T223517UTC-7734ijsGF6@https://mail.daiquirideckvenice.com/
DTSTAMP:20260421T223517Z
DESCRIPTION: https://mail.daiquirideckvenice.com/component/rseventspro/even
 t/4150-12p-joey-d?Itemid=101
DTSTART;VALUE=DATE:20260518
LOCATION:Daiquiri Deck Island of Venice (300 W Venice Ave\, Venice\, FL 342
 85)
SUMMARY:12p Joey D
URL:https://mail.daiquirideckvenice.com/component/rseventspro/event/4150-12
 p-joey-d?Itemid=101
END:VEVENT
END:VCALENDAR
