BEGIN:VCALENDAR
VERSION:2.0
PRODID:-//https://mail.daiquirideckvenice.com///NONSGML kigkonsult.se iCalcreator 2.10.15//
METHOD:PUBLISH
BEGIN:VEVENT
UID:20260421T145434UTC-230151ULZj@https://mail.daiquirideckvenice.com/
DTSTAMP:20260421T145434Z
DESCRIPTION: https://mail.daiquirideckvenice.com/component/rseventspro/even
 t/4146-4p-gary-alexander?Itemid=101
DTSTART;VALUE=DATE:20260514
LOCATION:Daiquiri Deck Island of Venice (300 W Venice Ave\, Venice\, FL 342
 85)
SUMMARY:4p Gary Alexander
URL:https://mail.daiquirideckvenice.com/component/rseventspro/event/4146-4p
 -gary-alexander?Itemid=101
END:VEVENT
END:VCALENDAR
