BEGIN:VCALENDAR
VERSION:2.0
PRODID:-//https://mail.daiquirideckvenice.com///NONSGML kigkonsult.se iCalcreator 2.10.15//
METHOD:PUBLISH
BEGIN:VEVENT
UID:20260421T112122UTC-6505EBS6hv@https://mail.daiquirideckvenice.com/
DTSTAMP:20260421T112122Z
DESCRIPTION: https://mail.daiquirideckvenice.com/component/rseventspro/even
 t/4144-12p-lonnie-paul?Itemid=101
DTSTART;VALUE=DATE:20260512
LOCATION:Daiquiri Deck Island of Venice (300 W Venice Ave\, Venice\, FL 342
 85)
SUMMARY:12p Lonnie Paul
URL:https://mail.daiquirideckvenice.com/component/rseventspro/event/4144-12
 p-lonnie-paul?Itemid=101
END:VEVENT
END:VCALENDAR
