BEGIN:VCALENDAR
VERSION:2.0
PRODID:-//https://mail.daiquirideckvenice.com///NONSGML kigkonsult.se iCalcreator 2.10.15//
METHOD:PUBLISH
BEGIN:VEVENT
UID:20260422T142404UTC-18225LuvV0@https://mail.daiquirideckvenice.com/
DTSTAMP:20260422T142404Z
DESCRIPTION: https://mail.daiquirideckvenice.com/component/rseventspro/even
 t/4102-3p-florida-keys-piano-show?Itemid=101
DTSTART;VALUE=DATE:20260531
LOCATION:Daiquiri Deck St. Armands Circle (325 John Ringling Blvd\, Sarasot
 a\, FL 34236)
SUMMARY:3p Florida Keys Piano Show
URL:https://mail.daiquirideckvenice.com/component/rseventspro/event/4102-3p
 -florida-keys-piano-show?Itemid=101
END:VEVENT
END:VCALENDAR
