BEGIN:VCALENDAR
VERSION:2.0
PRODID:-//https://mail.daiquirideckvenice.com///NONSGML kigkonsult.se iCalcreator 2.10.15//
METHOD:PUBLISH
BEGIN:VEVENT
UID:20260422T121652UTC-4639pIc5VR@https://mail.daiquirideckvenice.com/
DTSTAMP:20260422T121652Z
DESCRIPTION: https://mail.daiquirideckvenice.com/component/rseventspro/even
 t/4101-4p-gulf-coastin-life?Itemid=101
DTSTART;VALUE=DATE:20260530
LOCATION:Daiquiri Deck St. Armands Circle (325 John Ringling Blvd\, Sarasot
 a\, FL 34236)
SUMMARY: 4p Gulf Coastin.Life
URL:https://mail.daiquirideckvenice.com/component/rseventspro/event/4101-4p
 -gulf-coastin-life?Itemid=101
END:VEVENT
END:VCALENDAR
