BEGIN:VCALENDAR
VERSION:2.0
PRODID:-//https://mail.daiquirideckvenice.com///NONSGML kigkonsult.se iCalcreator 2.10.15//
METHOD:PUBLISH
BEGIN:VEVENT
UID:20260422T121335UTC-4044w89j1N@https://mail.daiquirideckvenice.com/
DTSTAMP:20260422T121335Z
DESCRIPTION: https://mail.daiquirideckvenice.com/component/rseventspro/even
 t/4060-12p-brian-mansano?Itemid=101
DTSTART;VALUE=DATE:20260530
LOCATION:Daiquiri Deck South Siesta Key (1250 Stickney Point Rd\, Siesta Ke
 y\, FL 34242)
SUMMARY:12p Brian Mansano  
URL:https://mail.daiquirideckvenice.com/component/rseventspro/event/4060-12
 p-brian-mansano?Itemid=101
END:VEVENT
END:VCALENDAR
