BEGIN:VCALENDAR
VERSION:2.0
PRODID:-//https://mail.daiquirideckvenice.com///NONSGML kigkonsult.se iCalcreator 2.10.15//
METHOD:PUBLISH
BEGIN:VEVENT
UID:20260422T021639UTC-521417AVZ9@https://mail.daiquirideckvenice.com/
DTSTAMP:20260422T021639Z
DESCRIPTION: https://mail.daiquirideckvenice.com/component/rseventspro/even
 t/4016-9p-dj-truth?Itemid=101
DTSTART;VALUE=DATE:20260523
LOCATION:Daiquiri Deck Siesta Key Village (5250 Ocean Blvd\, Sarasota\, FL 
 34242)
SUMMARY:  9p DJ Truth
URL:https://mail.daiquirideckvenice.com/component/rseventspro/event/4016-9p
 -dj-truth?Itemid=101
END:VEVENT
END:VCALENDAR
