BEGIN:VCALENDAR
VERSION:2.0
PRODID:-//https://mail.daiquirideckvenice.com///NONSGML kigkonsult.se iCalcreator 2.10.15//
METHOD:PUBLISH
BEGIN:VEVENT
UID:20260421T204237UTC-41817ADi9N@https://mail.daiquirideckvenice.com/
DTSTAMP:20260421T204237Z
DESCRIPTION: https://mail.daiquirideckvenice.com/component/rseventspro/even
 t/4010-3p-kaleb-woods?Itemid=101
DTSTART;VALUE=DATE:20260520
LOCATION:Daiquiri Deck Siesta Key Village (5250 Ocean Blvd\, Sarasota\, FL 
 34242)
SUMMARY:3p Kaleb Woods  
URL:https://mail.daiquirideckvenice.com/component/rseventspro/event/4010-3p
 -kaleb-woods?Itemid=101
END:VEVENT
END:VCALENDAR
